BEGIN:VCALENDAR
VERSION:2.0
PRODID:-//ChamberMaster//Event Calendar 2.0//EN
METHOD:PUBLISH
X-PUBLISHED-TTL:P3D
REFRESH-INTERVAL:P3D
CALSCALE:GREGORIAN
BEGIN:VEVENT
DTSTART:20260929T144500Z
DTEND:20260929T160000Z
X-MICROSOFT-CDO-ALLDAYEVENT:FALSE
SUMMARY:A-W Chamber Networking Coffee - 2026
DESCRIPTION:Join fellow Astoria-Warrenton Area Chamber of Commerce members for our Monthly Chamber Networking Coffee. Networking starts at 7:45 a.m. and the program begins at 8 a.m.  Bring a door prize to add to our drawings. \n\n\nGuest Speaker and topic changes each month.\n\n\n\nCoffee is held monthly at Astoria Brewing Company Pub located at 144 11th St.\, in Astoria.\n\n\n\nCoffee is free\, courtesy of Coffee Sponsor: \n\nTLC\, A Division of Fibre Federal Credit Union
X-ALT-DESC;FMTTYPE=text/html:<div background-attachment:="" background-clip:="" background-image:="" background-origin:="" background-position:="" background-repeat:="" background-size:="" border-collapse:="" border-radius:="" box-shadow:="" box-sizing:="" clear:="" color:="" content:="" direction:="" empty-cells:="" float:="" font-size:="" font-stretch:="" font-variant-east-asian:="" font-variant-numeric:="" height:="" helvetica="" inset:="" line-height:="" max-height:="" max-width:="" min-height:="" min-width:="" opacity:="" outline-offset:="" overflow-wrap:="" overflow:="" position:="" resize:="" table-layout:="" text-overflow:="" vertical-align:="" visibility:="" width:="" word-break:="" z-index:="">\n<div background-attachment:="" background-clip:="" background-image:="" background-origin:="" background-position:="" background-repeat:="" background-size:="" border-collapse:="" border-radius:="" box-shadow:="" box-sizing:="" clear:="" color:="" content:="" direction:="" empty-cells:="" float:="" font-size:="" font-stretch:="" font-variant-east-asian:="" font-variant-numeric:="" height:="" helvetica="" inset:="" line-height:="" max-height:="" max-width:="" min-height:="" min-width:="" opacity:="" outline-offset:="" overflow-wrap:="" overflow:="" position:="" resize:="" table-layout:="" text-overflow:="" vertical-align:="" visibility:="" width:="" word-break:="" z-index:=""><span style="font-size:14px\;">Join fellow Astoria-Warrenton Area Chamber of Commerce members for our Monthly Chamber Networking Coffee. Networking starts at 7:45 a.m. and the program begins at 8 a.m.&nbsp\; Bring a door prize to add to our drawings.&nbsp\;</span></div>\n<br />\n<span style="font-size:14px\;">Guest Speaker and topic changes each month.<br />\n<br />\nCoffee is held monthly at Astoria Brewing Company Pub located at&nbsp\;144 11th St.\, in&nbsp\;Astoria.<br />\n<br />\nCoffee is free\, courtesy of Coffee Sponsor:&nbsp\;<br />\n<a href="https://www.tlcfcu.org/" target="_blank">TLC\, A Division of Fibre Federal Credit Union</a></span></div>\n
LOCATION:Astoria Brewing Company - Pub 144 11th Street in Astoria
UID:e.149.43149
SEQUENCE:3
DTSTAMP:20260420T151224Z
URL:https://business.oldoregon.com/events/details/a-w-chamber-networking-coffee-2025-09-29-2026-43149
END:VEVENT

END:VCALENDAR
