BEGIN:VCALENDAR
VERSION:2.0
PRODID:-//ChamberMaster//Event Calendar 2.0//EN
METHOD:PUBLISH
X-PUBLISHED-TTL:P3D
REFRESH-INTERVAL:P3D
CALSCALE:GREGORIAN
BEGIN:VEVENT
DTSTART:20280130T003000Z
DTEND:20280130T043000Z
X-MICROSOFT-CDO-ALLDAYEVENT:FALSE
SUMMARY:AWACC ANNUAL MEETING & BANQUET
DESCRIPTION:Save the date for the Chamber's annual meeting & banquet!\n\n\nClick here to learn more and register to attend.
X-ALT-DESC;FMTTYPE=text/html:Save the date for the Chamber&#39\;s annual meeting &amp\; banquet!\n<p><br />\n<a href="https://www.oldoregon.com/banquet/">Click here to learn more and register to attend.</a></p>\n
LOCATION:
UID:e.149.43154
SEQUENCE:3
DTSTAMP:20260421T192135Z
URL:https://business.oldoregon.com/events/details/awacc-annual-meeting-banquet-01-29-2028-43154
END:VEVENT

END:VCALENDAR
