BEGIN:VCALENDAR
VERSION:2.0
PRODID:-//ChamberMaster//Event Calendar 2.0//EN
METHOD:PUBLISH
X-PUBLISHED-TTL:P3D
REFRESH-INTERVAL:P3D
CALSCALE:GREGORIAN
BEGIN:VEVENT
DTSTART:20270131T003000Z
DTEND:20270131T043000Z
X-MICROSOFT-CDO-ALLDAYEVENT:FALSE
SUMMARY:AWACC ANNUAL MEETING & BANQUET
DESCRIPTION:Save the date for the Chamber's annual meeting & banquet!\nYou are invited to the Astoria-Warrenton Area Chamber of Commerce Annual Meeting and Banquet.\n\nClick here to learn more and register to attend.
X-ALT-DESC;FMTTYPE=text/html:Save the date for the Chamber&#39\;s annual meeting &amp\; banquet!\n<p><strong>You are invited to the Astoria-Warrenton&nbsp\;Area Chamber of Commerce Annual Meeting and Banquet</strong>.</p>\n\n<p><a href="https://www.oldoregon.com/banquet/">Click here to learn more and register to attend.</a></p>\n
LOCATION:
UID:e.149.43153
SEQUENCE:3
DTSTAMP:20260421T000632Z
URL:https://business.oldoregon.com/events/details/awacc-annual-meeting-banquet-01-30-2027-43153
END:VEVENT

END:VCALENDAR
