BEGIN:VCALENDAR
VERSION:2.0
PRODID:-//ChamberMaster//Event Calendar 2.0//EN
METHOD:PUBLISH
X-PUBLISHED-TTL:P3D
REFRESH-INTERVAL:P3D
CALSCALE:GREGORIAN
BEGIN:VEVENT
DTSTART:20260913T000000Z
DTEND:20260913T023000Z
X-MICROSOFT-CDO-ALLDAYEVENT:FALSE
SUMMARY:Liberty Gala
DESCRIPTION:A night of enchantment awaits at the Liberty Gala. Come indulge in delectable appetizers\, enjoy soulful tunes\, and join our exclusive high-end auction. Raise your paddle to help us support diverse\, world-class performances\, innovative children's programs\, and the preservation of our Grand Lady. We could never do all this without generous donors like you. Strictly limited to 200 guests.
X-ALT-DESC;FMTTYPE=text/html:A night of enchantment awaits at the Liberty Gala. Come indulge in delectable appetizers\, enjoy soulful tunes\, and join our exclusive high-end auction. Raise your paddle to help us support diverse\, world-class performances\, innovative children&rsquo\;s programs\, and the preservation of our Grand Lady. We could never do all this without generous donors like you. Strictly limited to 200 guests.
LOCATION:Liberty Theatre\, 1203 Commercial St\, Astoria
UID:e.149.44081
SEQUENCE:3
DTSTAMP:20260420T145552Z
URL:https://business.oldoregon.com/events/details/liberty-gala-44081
END:VEVENT

END:VCALENDAR
