BEGIN:VCALENDAR
VERSION:2.0
PRODID:-//ChamberMaster//Event Calendar 2.0//EN
METHOD:PUBLISH
X-PUBLISHED-TTL:P3D
REFRESH-INTERVAL:P3D
CALSCALE:GREGORIAN
BEGIN:VEVENT
DTSTART;VALUE=DATE:20260806
DTEND;VALUE=DATE:20260810
TRANSP:TRANSPARENT
X-MICROSOFT-CDO-ALLDAYEVENT:TRUE
SUMMARY:Seaside Beach Volleyball
DESCRIPTION:Largest and most iconic Beach Volleyball Tournament in the United States! In 2022 we are celebrating our 40th year.\n\n\n\n180+ Courts\, 1600+ Teams\, ONE BEACH!\n\n\n\nAstoria and Warrenton sees heavy impacts to crowds and traffic in our communities during this event weekend. So although the event isn't itself in our towns\, we have listed this event to help set expectations for a busy weekend in our region.
X-ALT-DESC;FMTTYPE=text/html:<div class="kvgmc6g5 cxmmr5t8 oygrvhab hcukyx3x c1et5uql" style="overflow-wrap: break-word\; margin: 0px\; font-family: &quot\;Segoe UI Historic&quot\;\, &quot\;Segoe UI&quot\;\, Helvetica\, Arial\, sans-serif\; color: rgb(5\, 5\, 5)\; font-size: 15px\;">\n<div dir="auto" style="font-family: inherit\;">Largest and most iconic Beach Volleyball Tournament in the United States! In 2022 we are celebrating our 40th year.</div>\n</div>\n\n<div class="cxmmr5t8 oygrvhab hcukyx3x c1et5uql o9v6fnle" style="overflow-wrap: break-word\; margin: 0.5em 0px 0px\; font-family: &quot\;Segoe UI Historic&quot\;\, &quot\;Segoe UI&quot\;\, Helvetica\, Arial\, sans-serif\; color: rgb(5\, 5\, 5)\; font-size: 15px\;">\n<div dir="auto" style="font-family: inherit\;">180+ Courts\, 1600+ Teams\, ONE BEACH!<br />\n<br />\nAstoria and Warrenton sees heavy impacts to crowds and traffic in our communities during this event weekend. So although the event isn&#39\;t itself in our towns\, we have listed this event to help set expectations for a busy weekend in our region.<br />\n&nbsp\;</div>\n</div>\n
LOCATION:Seaside\, Oregon
UID:e.149.31002
SEQUENCE:3
DTSTAMP:20260420T151220Z
URL:https://business.oldoregon.com/events/details/seaside-beach-volleyball-08-13-2026-31002
END:VEVENT

END:VCALENDAR
