BEGIN:VCALENDAR
VERSION:2.0
PRODID:-//ChamberMaster//Event Calendar 2.0//EN
METHOD:PUBLISH
X-PUBLISHED-TTL:P3D
REFRESH-INTERVAL:P3D
CALSCALE:GREGORIAN
BEGIN:VEVENT
DTSTART:20270403T160000Z
DTEND:20270403T180000Z
X-MICROSOFT-CDO-ALLDAYEVENT:FALSE
SUMMARY:Treasure the Beach
DESCRIPTION:"Treasure the Beach" is a monthly beach cleanup that takes place on the first Saturday of every month. We partner with SOLVE\, the City of Seaside\, and Seaside Downtown Development Association\, in our efforts to keep Seaside's beach clean and healthy. To join us\, you can register at solveoregon.org or just show up! Pick up your bags and gloves at the Seaside Aquarium located at 200 N. Prom\, Seaside\, OR from 9:00 a.m. to 11:00 a.m. Your bags of trash can be placed by any of the trash cans lining the Prom and the City of Seaside will come pick them up.
X-ALT-DESC;FMTTYPE=text/html:<span style="color:rgb(0\, 0\, 0)\; font-family:nunito sans\,sans-serif\; font-size:16px">&ldquo\;Treasure the Beach&rdquo\; is a monthly beach cleanup that takes place on the first Saturday of every month. We partner with SOLVE\, the City of Seaside\, and Seaside Downtown Development Association\, in our efforts to keep Seaside&rsquo\;s beach clean and healthy. To join us\, you can register at&nbsp\;</span><a class="link_active" href="https://www.solveoregon.org/" style="box-sizing: border-box\; color: rgb(0\, 0\, 0)\; transition: 0.3s\; box-shadow: none\; font-family: &quot\;Nunito Sans&quot\;\, sans-serif\; font-size: 16px\;">solveoregon.org</a><span style="color:rgb(0\, 0\, 0)\; font-family:nunito sans\,sans-serif\; font-size:16px">&nbsp\;or just show up! Pick up your bags and gloves at the Seaside Aquarium located at 200 N. Prom\, Seaside\, OR from 9:00 a.m. to 11:00 a.m. Your bags of trash can be placed by any of the trash cans lining the Prom and the City of Seaside will come pick them up.</span>
LOCATION:Seaside Aquarium located at 200 N. Prom\, Seaside\, OR 97138
UID:e.149.43208
SEQUENCE:3
DTSTAMP:20260421T033735Z
URL:https://business.oldoregon.com/events/details/treasure-the-beach-04-03-2027-43208
END:VEVENT

END:VCALENDAR
